BEGIN:VCALENDAR
VERSION:2.0
PRODID:-//NEW LIFE HOME HEALTHCARE - ECPv6.15.20//NONSGML v1.0//EN
CALSCALE:GREGORIAN
METHOD:PUBLISH
X-ORIGINAL-URL:https://newlifehhcare.com
X-WR-CALDESC:Events for NEW LIFE HOME HEALTHCARE
REFRESH-INTERVAL;VALUE=DURATION:PT1H
X-Robots-Tag:noindex
X-PUBLISHED-TTL:PT1H
BEGIN:VTIMEZONE
TZID:UTC
BEGIN:STANDARD
TZOFFSETFROM:+0000
TZOFFSETTO:+0000
TZNAME:UTC
DTSTART:20240101T000000
END:STANDARD
END:VTIMEZONE
BEGIN:VEVENT
DTSTART;TZID=UTC:20251007T170000
DTEND;TZID=UTC:20251007T190000
DTSTAMP:20260424T001600
CREATED:20260303T212025Z
LAST-MODIFIED:20260303T212025Z
UID:2547-1759856400-1759863600@newlifehhcare.com
SUMMARY:National Night Out – Community Event in Wills Point
DESCRIPTION:New Life Home Health Care and Bridging the Gap of Van Zandt County were proud to participate in National Night Out at Jack Lester Park\, an evening dedicated to strengthening relationships between local organizations\, first responders\, and the families we serve. \nThe event created a welcoming space for neighbors to gather\, connect\, and learn more about the resources available throughout our community. Our teams enjoyed meeting families\, sharing information about our services\, and building new relationships with community partners who share a heart for service. \nNational Night Out reflects the power of connection and collaboration\, and we are grateful to be part of events that bring our community together in meaningful and lasting ways.
URL:https://newlifehhcare.com/event/national-night-out-community-event-in-wills-point/
LOCATION:TX
END:VEVENT
BEGIN:VEVENT
DTSTART;TZID=UTC:20251011T090000
DTEND;TZID=UTC:20251011T160000
DTSTAMP:20260424T001600
CREATED:20260303T212235Z
LAST-MODIFIED:20260303T212235Z
UID:2549-1760173200-1760198400@newlifehhcare.com
SUMMARY:Canton Autumn Festival – Community Event in Canton
DESCRIPTION:Bridging the Gap of Van Zandt County and New Life Home Health Care were proud to participate in the Canton Autumn Festival\, a seasonal celebration that brings families\, local businesses\, and community organizations together in the heart of Canton. \nThe festival provided a wonderful opportunity to connect with residents\, share resources\, and engage with families in a fun and welcoming atmosphere. From meaningful conversations to new partnerships\, the day reflected the shared mission of both organizations — to strengthen our community through service\, outreach\, and compassionate care. \nWe are grateful to be part of traditions like the Canton Autumn Festival and look forward to continuing to show up\, support local events\, and invest in the people who make our community so special.
URL:https://newlifehhcare.com/event/canton-autumn-festival-community-event-in-canton/
LOCATION:TX
END:VEVENT
BEGIN:VEVENT
DTSTART;TZID=UTC:20251022T140000
DTEND;TZID=UTC:20251022T160000
DTSTAMP:20260424T001600
CREATED:20260303T212455Z
LAST-MODIFIED:20260303T212455Z
UID:2551-1761141600-1761148800@newlifehhcare.com
SUMMARY:Senior Citizens Homecoming
DESCRIPTION:New Life Home Health Care and Bridging the Gap of Van Zandt County were honored to participate in the Senior Citizens Homecoming\, a special event dedicated to celebrating and recognizing the seniors who are such an important part of our community. \nThe gathering created a meaningful opportunity for fellowship\, reflection\, and connection. Our teams enjoyed spending time with attendees\, sharing resources\, and supporting an event that highlights the value\, wisdom\, and legacy of older adults throughout our area. \nWe are grateful to be involved in events like Senior Citizens Homecoming and remain committed to serving our seniors with compassion\, dignity\, and ongoing community support.
URL:https://newlifehhcare.com/event/senior-citizens-homecoming/
LOCATION:TX
END:VEVENT
BEGIN:VEVENT
DTSTART;TZID=UTC:20251025T090000
DTEND;TZID=UTC:20251025T160000
DTSTAMP:20260424T001600
CREATED:20260303T211129Z
LAST-MODIFIED:20260303T212725Z
UID:2541-1761382800-1761408000@newlifehhcare.com
SUMMARY:Boo on the Bricks – Community Event in Wills Point
DESCRIPTION:New Life Home Health Care and Bridging the Gap of Van Zandt County were proud to participate in Boo on the Bricks\, a festive downtown event that brings families together for an evening of fun\, costumes\, and community connection. \nOur teams enjoyed handing out treats\, meeting local families\, and sharing more about the services and outreach efforts both organizations provide throughout Van Zandt County. Events like Boo on the Bricks create meaningful opportunities to engage with the community in a joyful and approachable way. \nWe are grateful to be part of traditions that celebrate connection and togetherness\, and we look forward to continuing to show up and support events that make our community stronger.
URL:https://newlifehhcare.com/event/boo-on-the-bricks-community-event-in-wills-point/
LOCATION:TX
END:VEVENT
END:VCALENDAR