BEGIN:VCALENDAR
VERSION:2.0
PRODID:-//NEW LIFE HOME HEALTHCARE - ECPv6.15.20//NONSGML v1.0//EN
CALSCALE:GREGORIAN
METHOD:PUBLISH
X-WR-CALNAME:NEW LIFE HOME HEALTHCARE
X-ORIGINAL-URL:https://newlifehhcare.com
X-WR-CALDESC:Events for NEW LIFE HOME HEALTHCARE
REFRESH-INTERVAL;VALUE=DURATION:PT1H
X-Robots-Tag:noindex
X-PUBLISHED-TTL:PT1H
BEGIN:VTIMEZONE
TZID:UTC
BEGIN:STANDARD
TZOFFSETFROM:+0000
TZOFFSETTO:+0000
TZNAME:UTC
DTSTART:20240101T000000
END:STANDARD
END:VTIMEZONE
BEGIN:VEVENT
DTSTART;TZID=UTC:20250307T110000
DTEND;TZID=UTC:20250307T130000
DTSTAMP:20260424T085150
CREATED:20260303T202916Z
LAST-MODIFIED:20260303T202916Z
UID:2525-1741345200-1741352400@newlifehhcare.com
SUMMARY:Second Annual Women's Luncheon
DESCRIPTION:Our Second Annual Women’s Luncheon will be a special collaborative event hosted by Bridging the Gap of Van Zandt County and New Life Home Health Care. This gathering will be designed to bring women together for connection\, encouragement\, and meaningful community impact. \nGuests will enjoy a thoughtfully prepared meal\, hear from inspiring speakers\, and have the opportunity to connect with women from across Van Zandt County who are passionate about serving others and strengthening our community. The luncheon will reflect the shared mission of both organizations — to care for the whole person and to build bridges that support families\, veterans\, and those in need. \nWe are excited to continue this growing tradition and create a space where women feel empowered\, supported\, and united in purpose.
URL:https://newlifehhcare.com/event/second-annual-womens-luncheon/
LOCATION:Wills Point Chamber of Commerce\, 307 N 4th St\, Wills Point\, TX\, 75169\, United States
ORGANIZER;CN="Bridging the Gap":MAILTO:tabethasmith@newlifehhcare.com
END:VEVENT
END:VCALENDAR