BEGIN:VCALENDAR
VERSION:2.0
PRODID:-//NEW LIFE HOME HEALTHCARE - ECPv6.15.20//NONSGML v1.0//EN
CALSCALE:GREGORIAN
METHOD:PUBLISH
X-WR-CALNAME:NEW LIFE HOME HEALTHCARE
X-ORIGINAL-URL:https://newlifehhcare.com
X-WR-CALDESC:Events for NEW LIFE HOME HEALTHCARE
REFRESH-INTERVAL;VALUE=DURATION:PT1H
X-Robots-Tag:noindex
X-PUBLISHED-TTL:PT1H
BEGIN:VTIMEZONE
TZID:UTC
BEGIN:STANDARD
TZOFFSETFROM:+0000
TZOFFSETTO:+0000
TZNAME:UTC
DTSTART:20230101T000000
END:STANDARD
END:VTIMEZONE
BEGIN:VEVENT
DTSTART;TZID=UTC:20250624T140000
DTEND;TZID=UTC:20250624T160000
DTSTAMP:20260423T235848
CREATED:20260303T210535Z
LAST-MODIFIED:20260303T210733Z
UID:2536-1750773600-1750780800@newlifehhcare.com
SUMMARY:Senior Citizen Prom – Community Event in Grand Saline
DESCRIPTION:New Life Home Health Care and Bridging the Gap of Van Zandt County were excited to participate in the Senior Citizen Prom in Grand Saline\, a joyful event dedicated to celebrating local seniors with an evening of fun\, music\, and connection. \nThe event created a special opportunity for seniors to dress up\, enjoy time with friends\, and make meaningful memories in a festive and welcoming environment. Our teams were honored to be part of such a heartwarming celebration and to support an event that prioritizes dignity\, joy\, and community for older adults. \nWe are grateful for opportunities like Senior Prom that allow us to invest in moments that truly matter and remind our seniors just how valued they are.
URL:https://newlifehhcare.com/event/senior-citizen-prom-grand-saline/
END:VEVENT
BEGIN:VEVENT
DTSTART;TZID=UTC:20250515T090000
DTEND;TZID=UTC:20250515T143000
DTSTAMP:20260423T235848
CREATED:20260303T210227Z
LAST-MODIFIED:20260303T210318Z
UID:2533-1747299600-1747319400@newlifehhcare.com
SUMMARY:Senior Resources Expo – Community Event in Athens
DESCRIPTION:New Life Home Health Care and Bridging the Gap of Van Zandt County were proud to participate in the Senior Resources Expo in Athens\, Texas. This impactful event brought together organizations dedicated to serving seniors and their families with valuable information\, services\, and support. \nThroughout the expo\, our teams had the opportunity to connect with attendees\, share resources about home health care and community outreach initiatives\, and build relationships with other providers serving the region. Events like this allow us to extend our reach beyond Van Zandt County and collaborate with neighboring communities to better support older adults. \nWe are grateful to have been part of the Senior Resources Expo and remain committed to serving seniors with compassion\, dignity\, and comprehensive care.
URL:https://newlifehhcare.com/event/senior-resources-expo-community-event-in-athens-texas/
END:VEVENT
BEGIN:VEVENT
DTSTART;TZID=UTC:20250412T170000
DTEND;TZID=UTC:20250412T220000
DTSTAMP:20260423T235848
CREATED:20260303T203436Z
LAST-MODIFIED:20260303T203436Z
UID:2530-1744477200-1744495200@newlifehhcare.com
SUMMARY:It Takes a Village – Community Event in Canton
DESCRIPTION:Bridging the Gap of Van Zandt County and New Life Home Health Care were honored to take part in the It Takes a Village event held in Canton last April. This impactful community gathering brought together local organizations\, families\, and leaders with a shared focus on strengthening and supporting the village it truly takes to help individuals and families thrive. \nThroughout the event\, our teams connected with attendees\, shared resources\, and highlighted the services and outreach efforts available across Van Zandt County. From meaningful conversations to new partnerships\, the day reflected the collaborative spirit that makes our community so special. \nWe are grateful for opportunities like It Takes a Village that remind us we are stronger together\, and we look forward to continuing to invest in events that uplift\, inform\, and unite our community.
URL:https://newlifehhcare.com/event/it-takes-a-village-community-event-in-canton/
END:VEVENT
BEGIN:VEVENT
DTSTART;TZID=UTC:20250412T083000
DTEND;TZID=UTC:20250412T123000
DTSTAMP:20260423T235848
CREATED:20260303T203155Z
LAST-MODIFIED:20260303T203523Z
UID:2528-1744446600-1744461000@newlifehhcare.com
SUMMARY:Bluebird Jamboree  – Community Event in Wills Point
DESCRIPTION:Bridging the Gap of Van Zandt County and New Life Home Health Care are proud to have participated in the Bluebird Jamboree\, joining fellow community organizations and local businesses for a day centered around music\, connection\, and small town celebration. \nOur teams have the opportunity to meet families\, share resources\, and connect with individuals who are passionate about strengthening Van Zandt County. From meaningful conversations to new community partnerships\, the event reflects the heart behind both of our organizations — serving others with compassion and commitment. \nWe are grateful to be part of such a vibrant community and look forward to continuing to show up\, support local gatherings\, and invest in the relationships that help our county thrive.
URL:https://newlifehhcare.com/event/bluebird-jamboree/
END:VEVENT
BEGIN:VEVENT
DTSTART;TZID=UTC:20250307T110000
DTEND;TZID=UTC:20250307T130000
DTSTAMP:20260423T235848
CREATED:20260303T202916Z
LAST-MODIFIED:20260303T202916Z
UID:2525-1741345200-1741352400@newlifehhcare.com
SUMMARY:Second Annual Women's Luncheon
DESCRIPTION:Our Second Annual Women’s Luncheon will be a special collaborative event hosted by Bridging the Gap of Van Zandt County and New Life Home Health Care. This gathering will be designed to bring women together for connection\, encouragement\, and meaningful community impact. \nGuests will enjoy a thoughtfully prepared meal\, hear from inspiring speakers\, and have the opportunity to connect with women from across Van Zandt County who are passionate about serving others and strengthening our community. The luncheon will reflect the shared mission of both organizations — to care for the whole person and to build bridges that support families\, veterans\, and those in need. \nWe are excited to continue this growing tradition and create a space where women feel empowered\, supported\, and united in purpose.
URL:https://newlifehhcare.com/event/second-annual-womens-luncheon/
LOCATION:Wills Point Chamber of Commerce\, 307 N 4th St\, Wills Point\, TX\, 75169\, United States
ORGANIZER;CN="Bridging the Gap":MAILTO:tabethasmith@newlifehhcare.com
END:VEVENT
BEGIN:VEVENT
DTSTART;TZID=UTC:20250228T100000
DTEND;TZID=UTC:20250228T130000
DTSTAMP:20260423T235848
CREATED:20260303T202611Z
LAST-MODIFIED:20260303T202611Z
UID:2521-1740736800-1740747600@newlifehhcare.com
SUMMARY:First Annual Health Fair
DESCRIPTION:Our First Annual Health Fair will be a special day dedicated to promoting wellness\, connection\, and accessible care within our community. This event will bring together local healthcare professionals\, community partners\, and families for a time of education\, resources\, and encouragement. \nAttendees will have the opportunity to learn more about home health services\, preventative care\, and practical steps toward living healthier lives. From health screenings to meaningful conversations with trusted providers\, the day will reflect our ongoing commitment to whole person care. \nWe look forward to gathering our community for this inaugural event and establishing what we hope will become a lasting tradition of serving and strengthening East Texas through education and compassionate care.
URL:https://newlifehhcare.com/event/first-annual-health-fair/
LOCATION:Wills Point Chamber of Commerce\, 307 N 4th St\, Wills Point\, TX\, 75169\, United States
ORGANIZER;CN="Bridging the Gap":MAILTO:tabethasmith@newlifehhcare.com
END:VEVENT
BEGIN:VEVENT
DTSTART;TZID=UTC:20241213T170000
DTEND;TZID=UTC:20241213T200000
DTSTAMP:20260423T235848
CREATED:20241028T173328Z
LAST-MODIFIED:20241030T011721Z
UID:2055-1734109200-1734120000@newlifehhcare.com
SUMMARY:BRIDGING THE GAP FIRST ANNUAL JINGLE JOG
DESCRIPTION:First Annual Canton Jingle Jog Fun Run \nGet ready to lace up your sneakers and spread some holiday cheer at the first annual Canton Jingle Jog Fun Run\, hosted by Bridging the Gap of Van Zandt County! This festive event will take place on December 13 from 5 PM to 8 PM in Canton\, TX\, and promises to be a merry way to kick off the holiday season while supporting a great cause. \nParticipants of all ages are invited to wear their favorite Christmas-themed outfits and jingle their way through a fun-filled run. Whether you’re a seasoned runner or just looking for a fun activity for the family\, the Canton Jingle Jog is perfect for everyone. \nProceeds from the event will go towards supporting local community initiatives and programs organized by Bridging the Gap of Van Zandt County\, helping to bring joy and support to those in need during the holiday season. \nJoin us for a festive evening filled with laughter\, music\, and the jingling of holiday spirit as we run\, walk\, and celebrate together!
URL:https://newlifehhcare.com/event/bridging-the-gap-first-annual-jingle-jog/
LOCATION:Canton\, 800 First Monday Lane\, Canton\, 75103\, United States
CATEGORIES:FUNDRAISING
ATTACH;FMTTYPE=image/jpeg:https://newlifehhcare.com/wp-content/uploads/2024/10/461585809_1271262490870906_5106959625949645480_n.jpg
ORGANIZER;CN="Bridging the Gap":MAILTO:tabethasmith@newlifehhcare.com
END:VEVENT
BEGIN:VEVENT
DTSTART;VALUE=DATE:20241206
DTEND;VALUE=DATE:20241208
DTSTAMP:20260423T235848
CREATED:20241030T013204Z
LAST-MODIFIED:20241030T013204Z
UID:2345-1733443200-1733615999@newlifehhcare.com
SUMMARY:TINSEL Christmas Market & Sugar Plum Gala Benefitting Bridging the Gap of Van Zandt County
DESCRIPTION:Join CEO Marketing Group\, CEO Society and Bridging the Gap of Van Zandt County and our amazingly creative friends and sponsors for TINSEL Christmas Market & Sugar Plum Gala December 6-7 at the Civic Center at Canton Trade Days. The Sugar Plum Gala features a DJ/EMCEE\, LIVE & SILENT AUCTION and loads of fun\, and it benefits Bridging the Gap of Van Zandt County. \n\nSing\, Nibble and Sip your way through this temperature controlled Christmas Wonderland filled to the brim with merchants of handcrafted goodies\, boutiques\, clothing and accessories\, home decor\, furniture\, artisans and more December 6 & 7 10-5.\n\nJoin us for our Sugar Plum Gala December 6 at 7pm with special guest EMCEE\, DJ Debbie and our amazing sponsors with proceeds benefitting Bridging the Gap of Van Zandt County. Bridging the Gap of Van Zandt County is a 501c3 whose mission is to provide community resources for in home health patients and other at need seniors who have personal needs outside of those covered by healthcare programs. They literally bridge the gap by filling in with assistance for items and resources not covered by these programs. \n\nRain or shine\, this INDOOR market comes with all the holiday wonderment\, photo booths\, gourmet hot chocolate\, Christmas Carolers and more.\n\nSIGN UP TO BE A MERCHANT and/or to SPONSOR HERE:https://ceomarketinggroup.com/tinsel-christmas-market
URL:https://newlifehhcare.com/event/tinsel-christmas-market-sugar-plum-gala-benefitting-bridging-the-gap-of-van-zandt-county/
LOCATION:CANTON CIVIC CENTER\, 800 Flea Market Rd\, CANTON\, TX\, 75103\, United States
CATEGORIES:HOLIDAY MARKET
ATTACH;FMTTYPE=image/png:https://newlifehhcare.com/wp-content/uploads/2024/10/1.png
ORGANIZER;CN="CEO MARKETING GROUP":MAILTO:kristie@ceomarketinggroup.com
END:VEVENT
END:VCALENDAR