BEGIN:VCALENDAR
VERSION:2.0
PRODID:-//NEW LIFE HOME HEALTHCARE - ECPv6.15.20//NONSGML v1.0//EN
CALSCALE:GREGORIAN
METHOD:PUBLISH
X-WR-CALNAME:NEW LIFE HOME HEALTHCARE
X-ORIGINAL-URL:https://newlifehhcare.com
X-WR-CALDESC:Events for NEW LIFE HOME HEALTHCARE
REFRESH-INTERVAL;VALUE=DURATION:PT1H
X-Robots-Tag:noindex
X-PUBLISHED-TTL:PT1H
BEGIN:VTIMEZONE
TZID:UTC
BEGIN:STANDARD
TZOFFSETFROM:+0000
TZOFFSETTO:+0000
TZNAME:UTC
DTSTART:20250101T000000
END:STANDARD
END:VTIMEZONE
BEGIN:VEVENT
DTSTART;TZID=UTC:20260227T100000
DTEND;TZID=UTC:20260227T130000
DTSTAMP:20260423T193555
CREATED:20260303T213329Z
LAST-MODIFIED:20260303T213329Z
UID:2557-1772186400-1772197200@newlifehhcare.com
SUMMARY:Third Annual Health Fair
DESCRIPTION:Our Third Annual Health Fair will continue the growing tradition of bringing wellness\, education\, and community connection together in one place. This event will serve as an opportunity for families\, seniors\, and caregivers to access valuable health resources and connect with trusted providers in our region.\n\n\n\n\n\n\n\n\n\n\n\n\n\n\nAttendees will have the opportunity to engage with healthcare professionals\, learn more about preventative care\, and explore services designed to support whole person wellness. As the event continues to grow each year\, it reflects our ongoing commitment to strengthening the health of the communities we serve. \nWe look forward to building on the momentum of previous years and continuing to make the Health Fair a cornerstone event that promotes informed\, compassionate care across East Texas.
URL:https://newlifehhcare.com/event/third-annual-health-fair/
LOCATION:TX
END:VEVENT
BEGIN:VEVENT
DTSTART;TZID=UTC:20260306T110000
DTEND;TZID=UTC:20260306T130000
DTSTAMP:20260423T193555
CREATED:20260303T213508Z
LAST-MODIFIED:20260303T213508Z
UID:2559-1772794800-1772802000@newlifehhcare.com
SUMMARY:Third Annual Women’s Luncheon – Bridging the Gap of Van Zandt County & New Life Home Health Care
DESCRIPTION:Our Third Annual Women’s Luncheon will continue a meaningful tradition of gathering women from across our community for connection\, encouragement\, and shared purpose. Hosted by Bridging the Gap of Van Zandt County and New Life Home Health Care\, this event will provide a space where women can come together to be inspired and uplifted.\n\n\n\n\n\n\n\n\n\n\n\n\n\n\nGuests will enjoy a beautifully prepared meal\, hear from impactful speakers\, and connect with other women who are passionate about faith\, leadership\, service\, and community involvement. As the luncheon continues to grow each year\, it reflects our commitment to investing in the strength and influence of women throughout Van Zandt County. \nWe look forward to building on the momentum of previous years and continuing to create an atmosphere where women feel valued\, empowered\, and united in purpose.
URL:https://newlifehhcare.com/event/third-annual-womens-luncheon-bridging-the-gap-of-van-zandt-county-new-life-home-health-care/
LOCATION:Wills Point Chamber of Commerce\, 307 N 4th St\, Wills Point\, TX\, 75169\, United States
ORGANIZER;CN="Bridging the Gap":MAILTO:tabethasmith@newlifehhcare.com
END:VEVENT
END:VCALENDAR