BEGIN:VCALENDAR
VERSION:2.0
PRODID:-//NEW LIFE HOME HEALTHCARE - ECPv6.15.20//NONSGML v1.0//EN
CALSCALE:GREGORIAN
METHOD:PUBLISH
X-WR-CALNAME:NEW LIFE HOME HEALTHCARE
X-ORIGINAL-URL:https://newlifehhcare.com
X-WR-CALDESC:Events for NEW LIFE HOME HEALTHCARE
REFRESH-INTERVAL;VALUE=DURATION:PT1H
X-Robots-Tag:noindex
X-PUBLISHED-TTL:PT1H
BEGIN:VTIMEZONE
TZID:UTC
BEGIN:STANDARD
TZOFFSETFROM:+0000
TZOFFSETTO:+0000
TZNAME:UTC
DTSTART:20250101T000000
END:STANDARD
END:VTIMEZONE
BEGIN:VEVENT
DTSTART;TZID=UTC:20260211T123000
DTEND;TZID=UTC:20260211T130000
DTSTAMP:20260423T193253
CREATED:20260303T212944Z
LAST-MODIFIED:20260303T212944Z
UID:2553-1770813000-1770814800@newlifehhcare.com
SUMMARY:Quilt of Valor Presentation – Honoring Mr. Tisdale
DESCRIPTION:Bridging the Gap of Van Zandt County and New Life Home Health Care were honored to be part of a special Quilt of Valor presentation recognizing Mr. Tisdale for his service and sacrifice. \nThe Quilt of Valor is a meaningful symbol of gratitude\, presented to veterans as a tangible expression of appreciation from a thankful community. The ceremony was a heartfelt moment of recognition\, reflection\, and honor\, celebrating Mr. Tisdale’s commitment to our country. \nIt was a privilege to witness and support such a powerful tribute. We remain deeply grateful to the men and women who have served and are committed to continuing to honor and support our local veterans in meaningful ways.
URL:https://newlifehhcare.com/event/quilt-of-valor-presentation-honoring-mr-tisdale/
LOCATION:Wills Point Chamber of Commerce\, 307 N 4th St\, Wills Point\, TX\, 75169\, United States
END:VEVENT
END:VCALENDAR