BEGIN:VCALENDAR
VERSION:2.0
PRODID:-//NEW LIFE HOME HEALTHCARE - ECPv6.15.20//NONSGML v1.0//EN
CALSCALE:GREGORIAN
METHOD:PUBLISH
X-WR-CALNAME:NEW LIFE HOME HEALTHCARE
X-ORIGINAL-URL:https://newlifehhcare.com
X-WR-CALDESC:Events for NEW LIFE HOME HEALTHCARE
REFRESH-INTERVAL;VALUE=DURATION:PT1H
X-Robots-Tag:noindex
X-PUBLISHED-TTL:PT1H
BEGIN:VTIMEZONE
TZID:UTC
BEGIN:STANDARD
TZOFFSETFROM:+0000
TZOFFSETTO:+0000
TZNAME:UTC
DTSTART:20240101T000000
END:STANDARD
END:VTIMEZONE
BEGIN:VEVENT
DTSTART;TZID=UTC:20251007T170000
DTEND;TZID=UTC:20251007T190000
DTSTAMP:20260424T012537
CREATED:20260303T212025Z
LAST-MODIFIED:20260303T212025Z
UID:2547-1759856400-1759863600@newlifehhcare.com
SUMMARY:National Night Out – Community Event in Wills Point
DESCRIPTION:New Life Home Health Care and Bridging the Gap of Van Zandt County were proud to participate in National Night Out at Jack Lester Park\, an evening dedicated to strengthening relationships between local organizations\, first responders\, and the families we serve. \nThe event created a welcoming space for neighbors to gather\, connect\, and learn more about the resources available throughout our community. Our teams enjoyed meeting families\, sharing information about our services\, and building new relationships with community partners who share a heart for service. \nNational Night Out reflects the power of connection and collaboration\, and we are grateful to be part of events that bring our community together in meaningful and lasting ways.
URL:https://newlifehhcare.com/event/national-night-out-community-event-in-wills-point/
LOCATION:TX
END:VEVENT
END:VCALENDAR